BEGIN:VCALENDAR
VERSION:2.0
PRODID:-//ARZA - ECPv5.12.2//NONSGML v1.0//EN
CALSCALE:GREGORIAN
METHOD:PUBLISH
X-WR-CALNAME:ARZA
X-ORIGINAL-URL:https://arza.org
X-WR-CALDESC:Events for ARZA
BEGIN:VTIMEZONE
TZID:UTC
BEGIN:STANDARD
TZOFFSETFROM:+0000
TZOFFSETTO:+0000
TZNAME:UTC
DTSTART:20200101T000000
END:STANDARD
END:VTIMEZONE
BEGIN:VEVENT
DTSTART;VALUE=DATE:20200221
DTEND;VALUE=DATE:20200225
DTSTAMP:20260420T002047
CREATED:20200130T224030Z
LAST-MODIFIED:20200130T224030Z
UID:1314-1582243200-1582588799@arza.org
SUMMARY:Conference
DESCRIPTION:RAC Sponsored \nL’Taken Seminar 4
URL:https://arza.org/event/conference-2/
END:VEVENT
END:VCALENDAR