BEGIN:VCALENDAR
VERSION:2.0
PRODID:-//ARZA - ECPv5.12.2//NONSGML v1.0//EN
CALSCALE:GREGORIAN
METHOD:PUBLISH
X-WR-CALNAME:ARZA
X-ORIGINAL-URL:https://arza.org
X-WR-CALDESC:Events for ARZA
BEGIN:VTIMEZONE
TZID:UTC
BEGIN:STANDARD
TZOFFSETFROM:+0000
TZOFFSETTO:+0000
TZNAME:UTC
DTSTART:20200101T000000
END:STANDARD
END:VTIMEZONE
BEGIN:VEVENT
DTSTART;VALUE=DATE:20200128
DTEND;VALUE=DATE:20200129
DTSTAMP:20260419T122545
CREATED:20200124T225308Z
LAST-MODIFIED:20200124T225308Z
UID:1262-1580169600-1580255999@arza.org
SUMMARY:Congregational Program
DESCRIPTION:Speaker: Rabbi Josh Weinberg
URL:https://arza.org/event/congregational-program-3/
LOCATION:Temple Sinai\, Denver\, CO
END:VEVENT
END:VCALENDAR