BEGIN:VCALENDAR
VERSION:2.0
PRODID:-//ARZA - ECPv5.12.2//NONSGML v1.0//EN
CALSCALE:GREGORIAN
METHOD:PUBLISH
X-WR-CALNAME:ARZA
X-ORIGINAL-URL:https://arza.org
X-WR-CALDESC:Events for ARZA
BEGIN:VTIMEZONE
TZID:UTC
BEGIN:STANDARD
TZOFFSETFROM:+0000
TZOFFSETTO:+0000
TZNAME:UTC
DTSTART:20200101T000000
END:STANDARD
END:VTIMEZONE
BEGIN:VEVENT
DTSTART;VALUE=DATE:20200210
DTEND;VALUE=DATE:20200211
DTSTAMP:20260419T194904
CREATED:20200130T223454Z
LAST-MODIFIED:20200130T223523Z
UID:1283-1581292800-1581379199@arza.org
SUMMARY:Congregational Program
DESCRIPTION:Speaker: Josh Weinberg
URL:https://arza.org/event/congregational-program-4/
LOCATION:Congregation Beth Israel\, West Hartford\, CT
END:VEVENT
END:VCALENDAR