BEGIN:VCALENDAR
VERSION:2.0
PRODID:-//ARZA - ECPv5.12.2//NONSGML v1.0//EN
CALSCALE:GREGORIAN
METHOD:PUBLISH
X-WR-CALNAME:ARZA
X-ORIGINAL-URL:https://arza.org
X-WR-CALDESC:Events for ARZA
BEGIN:VTIMEZONE
TZID:UTC
BEGIN:STANDARD
TZOFFSETFROM:+0000
TZOFFSETTO:+0000
TZNAME:UTC
DTSTART:20200101T000000
END:STANDARD
END:VTIMEZONE
BEGIN:VEVENT
DTSTART;VALUE=DATE:20200221
DTEND;VALUE=DATE:20200222
DTSTAMP:20260420T024723
CREATED:20200130T225110Z
LAST-MODIFIED:20200130T225110Z
UID:1320-1582243200-1582329599@arza.org
SUMMARY:Congregational Program
DESCRIPTION:Speaker: Rabbi Gilad Kariv
URL:https://arza.org/event/congregational-program-6/
LOCATION:Temple Enamuel\, NY\, NY
END:VEVENT
END:VCALENDAR