BEGIN:VCALENDAR
VERSION:2.0
PRODID:-//ARZA - ECPv5.12.2//NONSGML v1.0//EN
CALSCALE:GREGORIAN
METHOD:PUBLISH
X-WR-CALNAME:ARZA
X-ORIGINAL-URL:https://arza.org
X-WR-CALDESC:Events for ARZA
BEGIN:VTIMEZONE
TZID:UTC
BEGIN:STANDARD
TZOFFSETFROM:+0000
TZOFFSETTO:+0000
TZNAME:UTC
DTSTART:20200101T000000
END:STANDARD
END:VTIMEZONE
BEGIN:VEVENT
DTSTART;VALUE=DATE:20200228
DTEND;VALUE=DATE:20200229
DTSTAMP:20260420T064826
CREATED:20200130T225445Z
LAST-MODIFIED:20200130T225445Z
UID:1330-1582848000-1582934399@arza.org
SUMMARY:Congregational Program
DESCRIPTION:Speaker: Rick Jacobs
URL:https://arza.org/event/congregational-program-7/
LOCATION:Anshe Emeth Memorial Temple\, New Brunswick\, NJ
END:VEVENT
END:VCALENDAR