BEGIN:VCALENDAR
VERSION:2.0
PRODID:-//ARZA - ECPv5.12.2//NONSGML v1.0//EN
CALSCALE:GREGORIAN
METHOD:PUBLISH
X-WR-CALNAME:ARZA
X-ORIGINAL-URL:https://arza.org
X-WR-CALDESC:Events for ARZA
BEGIN:VTIMEZONE
TZID:UTC
BEGIN:STANDARD
TZOFFSETFROM:+0000
TZOFFSETTO:+0000
TZNAME:UTC
DTSTART:20200101T000000
END:STANDARD
END:VTIMEZONE
BEGIN:VEVENT
DTSTART;VALUE=DATE:20200126
DTEND;VALUE=DATE:20200130
DTSTAMP:20260419T190312
CREATED:20200124T223545Z
LAST-MODIFIED:20200124T223545Z
UID:1243-1579996800-1580342399@arza.org
SUMMARY:Congregational Program
DESCRIPTION:Speaker: Jonah Pesner
URL:https://arza.org/event/congregational-program/
LOCATION:Brickner Retreat\, Reisters Town\, MD
END:VEVENT
END:VCALENDAR