BEGIN:VCALENDAR
VERSION:2.0
PRODID:-//ARZA - ECPv5.12.2//NONSGML v1.0//EN
CALSCALE:GREGORIAN
METHOD:PUBLISH
X-WR-CALNAME:ARZA
X-ORIGINAL-URL:https://arza.org
X-WR-CALDESC:Events for ARZA
BEGIN:VTIMEZONE
TZID:America/New_York
BEGIN:DAYLIGHT
TZOFFSETFROM:-0500
TZOFFSETTO:-0400
TZNAME:EDT
DTSTART:20210314T070000
END:DAYLIGHT
BEGIN:STANDARD
TZOFFSETFROM:-0400
TZOFFSETTO:-0500
TZNAME:EST
DTSTART:20211107T060000
END:STANDARD
END:VTIMEZONE
BEGIN:VEVENT
DTSTART;TZID=America/New_York:20210523T120000
DTEND;TZID=America/New_York:20210523T130000
DTSTAMP:20260421T024859
CREATED:20210506T192844Z
LAST-MODIFIED:20210506T193037Z
UID:1941-1621771200-1621774800@arza.org
SUMMARY:F O U R S E A S O N S WITH POLYPHONY OF NAZARETH & ARTOLERANCE
DESCRIPTION:ARTolerance & Main Line Reform Temple (Wynnewood\, PA) are thrilled to present Four Seasons with Polyphony of Nazareth. Polyphony bridges the divide between Arab and Jewish communities in Israel through classical music and serves as a worldwide model for\ncooperation based on cultural exchange\, dialogue\, and partnership. \nWe will kick off this exciting partnership with a special virtual Polyphony performance\nfeaturing their outstanding talents in Vivaldi Four Seasons from gorgeous & significant sites\nin Nazareth. We will also be joined by ARTolerance performers from the USA. \nAll seeking co-existence\, peace\, and great music are welcome to join us.
URL:https://arza.org/event/f-o-u-r-s-e-a-s-o-n-s-with-polyphony-of-nazareth-artolerance/
END:VEVENT
END:VCALENDAR