BEGIN:VCALENDAR
VERSION:2.0
PRODID:-//ARZA - ECPv5.12.2//NONSGML v1.0//EN
CALSCALE:GREGORIAN
METHOD:PUBLISH
X-WR-CALNAME:ARZA
X-ORIGINAL-URL:https://arza.org
X-WR-CALDESC:Events for ARZA
BEGIN:VTIMEZONE
TZID:UTC
BEGIN:STANDARD
TZOFFSETFROM:+0000
TZOFFSETTO:+0000
TZNAME:UTC
DTSTART:20200101T000000
END:STANDARD
END:VTIMEZONE
BEGIN:VEVENT
DTSTART;VALUE=DATE:20200113
DTEND;VALUE=DATE:20200126
DTSTAMP:20260419T232747
CREATED:20200130T223814Z
LAST-MODIFIED:20200130T223814Z
UID:1307-1578873600-1579996799@arza.org
SUMMARY:Jewish Agency Board of Governors' Meeting/Heller High Visit with SAMIS Foundation
DESCRIPTION:Rick Jacobs – Jewish Agency Board of Governors’ Meeting/Heller High Visit with SAMIS Foundation
URL:https://arza.org/event/jewish-agency-board-of-governors-meeting-heller-high-visit-with-samis-foundation/
LOCATION:Israel
END:VEVENT
END:VCALENDAR