BEGIN:VCALENDAR
VERSION:2.0
PRODID:-//ARZA - ECPv5.12.2//NONSGML v1.0//EN
CALSCALE:GREGORIAN
METHOD:PUBLISH
X-WR-CALNAME:ARZA
X-ORIGINAL-URL:https://arza.org
X-WR-CALDESC:Events for ARZA
BEGIN:VTIMEZONE
TZID:America/New_York
BEGIN:DAYLIGHT
TZOFFSETFROM:-0500
TZOFFSETTO:-0400
TZNAME:EDT
DTSTART:20210314T070000
END:DAYLIGHT
BEGIN:STANDARD
TZOFFSETFROM:-0400
TZOFFSETTO:-0500
TZNAME:EST
DTSTART:20211107T060000
END:STANDARD
END:VTIMEZONE
BEGIN:VEVENT
DTSTART;TZID=America/New_York:20210511T203000
DTEND;TZID=America/New_York:20210511T213000
DTSTAMP:20260420T234737
CREATED:20210430T165858Z
LAST-MODIFIED:20210511T013030Z
UID:1901-1620765000-1620768600@arza.org
SUMMARY:Zionist Beit Midrash
DESCRIPTION:“Hartman’s Zionism: The Hope of Normality” \nTuesday\, May 11th 8:30 pm ET/ 5:30 pm PT \nJoin us on a textual journey exploring the big questions of our day\, namely: Why should we\, as American Reform Jews\, have a connection and relationship with Israel? And\, What does it mean to be a Zionist in today’s contemporary reality? We will study and learn together to develop our own language around Israel\, Zionism\, and Peoplehood and challenge each other through questions that arise from our texts.\nThis session will be taught by guest teacher Rabbi Dr. Rachel Sabath Beit-Halachmi\, the Rabbi at Ohavay Zion Synagogue in Lexington\, KY\, and a senior scholar of the Kaplan Center for Jewish Peoplehood and incoming Senior Rabbi at Har Sinai Ohev Shalom in Baltimore\, MD. \nRegister below to join!
URL:https://arza.org/event/may-11zionist-beit-midrash/
END:VEVENT
END:VCALENDAR