BEGIN:VCALENDAR
VERSION:2.0
PRODID:-//ARZA - ECPv5.12.2//NONSGML v1.0//EN
CALSCALE:GREGORIAN
METHOD:PUBLISH
X-WR-CALNAME:ARZA
X-ORIGINAL-URL:https://arza.org
X-WR-CALDESC:Events for ARZA
BEGIN:VTIMEZONE
TZID:America/New_York
BEGIN:DAYLIGHT
TZOFFSETFROM:-0500
TZOFFSETTO:-0400
TZNAME:EDT
DTSTART:20210314T070000
END:DAYLIGHT
BEGIN:STANDARD
TZOFFSETFROM:-0400
TZOFFSETTO:-0500
TZNAME:EST
DTSTART:20211107T060000
END:STANDARD
END:VTIMEZONE
BEGIN:VEVENT
DTSTART;TZID=America/New_York:20210525T200000
DTEND;TZID=America/New_York:20210525T210000
DTSTAMP:20260421T043314
CREATED:20210430T171644Z
LAST-MODIFIED:20210430T171644Z
UID:1908-1621972800-1621976400@arza.org
SUMMARY:Zionist Beit Midrash
DESCRIPTION:Tuesday May 25th 8pm ET/ 5pm PT \nJoin us on a textual journey exploring the big questions of our day\, namely: Why should we\, as American Reform Jews\, have a connection and relationship with Israel? And\, What does it mean to be a Zionist in today’s contemporary reality? We will study and learn together to develop our own language around Israel\, Zionism\, and Peoplehood and challenge each other through questions that arise from our texts. This session will be taught by guest teacher Rabbi Jonathan Cohen\, senior Rabbi at The Temple-Tifereth Israel in Beachwood\, OH. \nRegister below to join!
URL:https://arza.org/event/may-25zionist-beit-midrash/
END:VEVENT
END:VCALENDAR