BEGIN:VCALENDAR
VERSION:2.0
PRODID:-//ARZA - ECPv5.12.2//NONSGML v1.0//EN
CALSCALE:GREGORIAN
METHOD:PUBLISH
X-WR-CALNAME:ARZA
X-ORIGINAL-URL:https://arza.org
X-WR-CALDESC:Events for ARZA
BEGIN:VTIMEZONE
TZID:UTC
BEGIN:STANDARD
TZOFFSETFROM:+0000
TZOFFSETTO:+0000
TZNAME:UTC
DTSTART:20190101T000000
END:STANDARD
END:VTIMEZONE
BEGIN:VEVENT
DTSTART;VALUE=DATE:20191118
DTEND;VALUE=DATE:20191120
DTSTAMP:20260420T061631
CREATED:20191024T012452Z
LAST-MODIFIED:20191024T012452Z
UID:586-1574035200-1574207999@arza.org
SUMMARY:Rabbi Weinberg Visits Judea Reform Congregation in Durham
DESCRIPTION:Hear from Rabbi Weinberg in advance of the World Zionist Congress elections!  \nRabbi Josh Weinberg is the Executive Director of ARZA\, the Association of Reform Zionists of America. ARZA is the Zionist arm and voice of the Reform movement in America which impacts the Israel engagement agenda. He looks forward to joining Judea Reform Congregation in Durham\, North Carolina to speak about the upcoming election.
URL:https://arza.org/event/rabbi-weinberg-visits-judea-reform-congregation-in-durham/
END:VEVENT
END:VCALENDAR