BEGIN:VCALENDAR
VERSION:2.0
PRODID:-//ARZA - ECPv5.12.2//NONSGML v1.0//EN
CALSCALE:GREGORIAN
METHOD:PUBLISH
X-WR-CALNAME:ARZA
X-ORIGINAL-URL:https://arza.org
X-WR-CALDESC:Events for ARZA
BEGIN:VTIMEZONE
TZID:UTC
BEGIN:STANDARD
TZOFFSETFROM:+0000
TZOFFSETTO:+0000
TZNAME:UTC
DTSTART:20190101T000000
END:STANDARD
END:VTIMEZONE
BEGIN:VEVENT
DTSTART;VALUE=DATE:20191108
DTEND;VALUE=DATE:20191111
DTSTAMP:20260420T085703
CREATED:20191024T010031Z
LAST-MODIFIED:20191024T011237Z
UID:567-1573171200-1573430399@arza.org
SUMMARY:Rabbi Weinberg Visits Temple Beth Israel in Houston as a Scholar in Residence
DESCRIPTION:Spend the weekend learning with Rabbi Weinberg in advance of the World Zionist Congress elections!  \nRabbi Josh Weinberg is the Executive Director of ARZA\, the Association of Reform Zionists of America. ARZA is the Zionist arm and voice of the Reform movement in America which impacts the Israel engagement agenda. He looks forward to joining Temple Beth Israel in Houston\, Texas as the Scholar in Residence throughout the weekend of November 8th-10th.
URL:https://arza.org/event/rabbi-weinberg-visits-temple-beth-israel-in-houston-as-a-scholar-in-residence/
LOCATION:Temple Beth Israel in Houston\, 5600 N Braeswood Blvd\, Houston\, TX\, 77096\, United States
END:VEVENT
END:VCALENDAR