BEGIN:VCALENDAR
VERSION:2.0
PRODID:-//ARZA - ECPv5.12.2//NONSGML v1.0//EN
CALSCALE:GREGORIAN
METHOD:PUBLISH
X-WR-CALNAME:ARZA
X-ORIGINAL-URL:https://arza.org
X-WR-CALDESC:Events for ARZA
BEGIN:VTIMEZONE
TZID:UTC
BEGIN:STANDARD
TZOFFSETFROM:+0000
TZOFFSETTO:+0000
TZNAME:UTC
DTSTART:20200101T000000
END:STANDARD
END:VTIMEZONE
BEGIN:VEVENT
DTSTART;VALUE=DATE:20200307
DTEND;VALUE=DATE:20200308
DTSTAMP:20260420T172914
CREATED:20200130T232306Z
LAST-MODIFIED:20200130T232306Z
UID:1372-1583539200-1583625599@arza.org
SUMMARY:Shabbat at Congregation
DESCRIPTION:Speaker: Rick Jacobs
URL:https://arza.org/event/shabbat-at-congregation/
LOCATION:Congregation Kol Shalom\, Bainbridge Island\, WA
END:VEVENT
END:VCALENDAR