BEGIN:VCALENDAR
VERSION:2.0
PRODID:-//ARZA - ECPv5.12.2//NONSGML v1.0//EN
CALSCALE:GREGORIAN
METHOD:PUBLISH
X-WR-CALNAME:ARZA
X-ORIGINAL-URL:https://arza.org
X-WR-CALDESC:Events for ARZA
BEGIN:VTIMEZONE
TZID:UTC
BEGIN:STANDARD
TZOFFSETFROM:+0000
TZOFFSETTO:+0000
TZNAME:UTC
DTSTART:20200101T000000
END:STANDARD
END:VTIMEZONE
BEGIN:VEVENT
DTSTART;VALUE=DATE:20200306
DTEND;VALUE=DATE:20200307
DTSTAMP:20260420T143629
CREATED:20200130T232027Z
LAST-MODIFIED:20200130T232027Z
UID:1366-1583452800-1583539199@arza.org
SUMMARY:Shabbat D'var/Program
DESCRIPTION:Speaker: Anna Kislanski
URL:https://arza.org/event/shabbat-dvar-program-2/
LOCATION:Temple Beth Emeth\, Albany\, NY
END:VEVENT
END:VCALENDAR