BEGIN:VCALENDAR
VERSION:2.0
PRODID:-//ARZA - ECPv5.12.2//NONSGML v1.0//EN
CALSCALE:GREGORIAN
METHOD:PUBLISH
X-WR-CALNAME:ARZA
X-ORIGINAL-URL:https://arza.org
X-WR-CALDESC:Events for ARZA
BEGIN:VTIMEZONE
TZID:UTC
BEGIN:STANDARD
TZOFFSETFROM:+0000
TZOFFSETTO:+0000
TZNAME:UTC
DTSTART:20200101T000000
END:STANDARD
END:VTIMEZONE
BEGIN:VEVENT
DTSTART;VALUE=DATE:20200207
DTEND;VALUE=DATE:20200208
DTSTAMP:20260419T170523
CREATED:20200130T230527Z
LAST-MODIFIED:20200130T230527Z
UID:1347-1581033600-1581119999@arza.org
SUMMARY:Shabbat Speaker
DESCRIPTION:Speaker: Josh Weinberg
URL:https://arza.org/event/shabbat-speaker/
LOCATION:East End Temple\, NY\, NY
END:VEVENT
END:VCALENDAR