BEGIN:VCALENDAR
VERSION:2.0
PRODID:-//ARZA - ECPv5.12.2//NONSGML v1.0//EN
CALSCALE:GREGORIAN
METHOD:PUBLISH
X-WR-CALNAME:ARZA
X-ORIGINAL-URL:https://arza.org
X-WR-CALDESC:Events for ARZA
BEGIN:VTIMEZONE
TZID:America/New_York
BEGIN:DAYLIGHT
TZOFFSETFROM:-0500
TZOFFSETTO:-0400
TZNAME:EDT
DTSTART:20210314T070000
END:DAYLIGHT
BEGIN:STANDARD
TZOFFSETFROM:-0400
TZOFFSETTO:-0500
TZNAME:EST
DTSTART:20211107T060000
END:STANDARD
END:VTIMEZONE
BEGIN:VEVENT
DTSTART;TZID=America/New_York:20210516T190000
DTEND;TZID=America/New_York:20210516T223000
DTSTAMP:20260421T011831
CREATED:20210505T151356Z
LAST-MODIFIED:20210505T151551Z
UID:1926-1621191600-1621204200@arza.org
SUMMARY:Tikkun Leil Shavuot - LaLa Tamar Guest Artist
DESCRIPTION:Sunday May 16th \n7:00-8:00pm ET: Musical Event \n8:30-10:15pm ET: Study Sessions \nCommunity Wide Tikkun Leil Shavuot. The Musical Event of Lala Tamar. Reclaiming her North-African heritage with an attitude\, LALA is pop music’s new Eastern muse. With a powerful voice and striking feminine presence\, LALA is transforming ancient ladino women’s hymns into punchy pop songs with dance and hip hop beats\, sure to move even the most stubborn listeners to their feet\, hands clapping. \n 
URL:https://arza.org/event/tikkun-leil-shavuot-lala-tamar-guest-artist/
END:VEVENT
END:VCALENDAR