BEGIN:VCALENDAR
VERSION:2.0
PRODID:-//ARZA - ECPv5.12.2//NONSGML v1.0//EN
CALSCALE:GREGORIAN
METHOD:PUBLISH
X-WR-CALNAME:ARZA
X-ORIGINAL-URL:https://arza.org
X-WR-CALDESC:Events for ARZA
BEGIN:VTIMEZONE
TZID:UTC
BEGIN:STANDARD
TZOFFSETFROM:+0000
TZOFFSETTO:+0000
TZNAME:UTC
DTSTART:20190101T000000
END:STANDARD
END:VTIMEZONE
BEGIN:VEVENT
DTSTART;VALUE=DATE:20191210
DTEND;VALUE=DATE:20191216
DTSTAMP:20260420T032331
CREATED:20191024T010824Z
LAST-MODIFIED:20191024T010824Z
UID:574-1575936000-1576454399@arza.org
SUMMARY:URJ Biennial
DESCRIPTION:Join thousands of Jews from across North America and around the world to learn\, pray\, share ideas\, dance and sing\, hear from inspiring speakers and the leaders of our Movement; reunite with old friends\, create new connections\, and make decisions about the policies of the Reform Movement. \nClick here to learn more: urj.org/urj-biennial
URL:https://arza.org/event/urj-biennial/
LOCATION:McCormick Place\, 2301 S King Dr\, Chicago\, IL\, 60616\, United States
END:VEVENT
END:VCALENDAR