BEGIN:VCALENDAR
VERSION:2.0
PRODID:-//ARZA - ECPv5.12.2//NONSGML v1.0//EN
CALSCALE:GREGORIAN
METHOD:PUBLISH
X-WR-CALNAME:ARZA
X-ORIGINAL-URL:https://arza.org
X-WR-CALDESC:Events for ARZA
BEGIN:VTIMEZONE
TZID:UTC
BEGIN:STANDARD
TZOFFSETFROM:+0000
TZOFFSETTO:+0000
TZNAME:UTC
DTSTART:20200101T000000
END:STANDARD
END:VTIMEZONE
BEGIN:VEVENT
DTSTART;VALUE=DATE:20200209
DTEND;VALUE=DATE:20200211
DTSTAMP:20260419T195028
CREATED:20200130T230631Z
LAST-MODIFIED:20200130T230631Z
UID:1351-1581206400-1581379199@arza.org
SUMMARY:URJ Sponsored
DESCRIPTION:Speaker: Rick Jacobs – HUC Board of Governors’ Meeting
URL:https://arza.org/event/urj-sponsored-2/
END:VEVENT
END:VCALENDAR