BEGIN:VCALENDAR
VERSION:2.0
PRODID:-//ARZA - ECPv5.12.2//NONSGML v1.0//EN
CALSCALE:GREGORIAN
METHOD:PUBLISH
X-WR-CALNAME:ARZA
X-ORIGINAL-URL:https://arza.org
X-WR-CALDESC:Events for ARZA
BEGIN:VTIMEZONE
TZID:UTC
BEGIN:STANDARD
TZOFFSETFROM:+0000
TZOFFSETTO:+0000
TZNAME:UTC
DTSTART:20200101T000000
END:STANDARD
END:VTIMEZONE
BEGIN:VEVENT
DTSTART;VALUE=DATE:20200206
DTEND;VALUE=DATE:20200210
DTSTAMP:20260419T134836
CREATED:20200130T230248Z
LAST-MODIFIED:20200130T230248Z
UID:1341-1580947200-1581292799@arza.org
SUMMARY:URJ Sponsored
DESCRIPTION:Speaker: Rick Jacobs
URL:https://arza.org/event/urj-sponsored/
LOCATION:La Jolla\, CA
END:VEVENT
END:VCALENDAR