BEGIN:VCALENDAR
VERSION:2.0
PRODID:-//ARZA - ECPv5.12.2//NONSGML v1.0//EN
CALSCALE:GREGORIAN
METHOD:PUBLISH
X-WR-CALNAME:ARZA
X-ORIGINAL-URL:https://arza.org
X-WR-CALDESC:Events for ARZA
BEGIN:VTIMEZONE
TZID:UTC
BEGIN:STANDARD
TZOFFSETFROM:+0000
TZOFFSETTO:+0000
TZNAME:UTC
DTSTART:20200101T000000
END:STANDARD
END:VTIMEZONE
BEGIN:VEVENT
DTSTART;VALUE=DATE:20200212
DTEND;VALUE=DATE:20200224
DTSTAMP:20260419T213004
CREATED:20200130T223712Z
LAST-MODIFIED:20200130T223712Z
UID:1303-1581465600-1582502399@arza.org
SUMMARY:Various
DESCRIPTION:Speaker: Rabbi Gilad Kariv
URL:https://arza.org/event/various/
LOCATION:NY area
END:VEVENT
END:VCALENDAR